BEGIN:VCALENDAR
VERSION:2.0
PRODID:-//Sunnyvale FBC - ECPv6.15.20//NONSGML v1.0//EN
CALSCALE:GREGORIAN
METHOD:PUBLISH
X-WR-CALNAME:Sunnyvale FBC
X-ORIGINAL-URL:https://www.sunnyvalefbc.com
X-WR-CALDESC:Events for Sunnyvale FBC
REFRESH-INTERVAL;VALUE=DURATION:PT1H
X-Robots-Tag:noindex
X-PUBLISHED-TTL:PT1H
BEGIN:VTIMEZONE
TZID:America/Chicago
BEGIN:DAYLIGHT
TZOFFSETFROM:-0600
TZOFFSETTO:-0500
TZNAME:CDT
DTSTART:20230312T080000
END:DAYLIGHT
BEGIN:STANDARD
TZOFFSETFROM:-0500
TZOFFSETTO:-0600
TZNAME:CST
DTSTART:20231105T070000
END:STANDARD
BEGIN:DAYLIGHT
TZOFFSETFROM:-0600
TZOFFSETTO:-0500
TZNAME:CDT
DTSTART:20240310T080000
END:DAYLIGHT
BEGIN:STANDARD
TZOFFSETFROM:-0500
TZOFFSETTO:-0600
TZNAME:CST
DTSTART:20241103T070000
END:STANDARD
BEGIN:DAYLIGHT
TZOFFSETFROM:-0600
TZOFFSETTO:-0500
TZNAME:CDT
DTSTART:20250309T080000
END:DAYLIGHT
BEGIN:STANDARD
TZOFFSETFROM:-0500
TZOFFSETTO:-0600
TZNAME:CST
DTSTART:20251102T070000
END:STANDARD
BEGIN:DAYLIGHT
TZOFFSETFROM:-0600
TZOFFSETTO:-0500
TZNAME:CDT
DTSTART:20260308T080000
END:DAYLIGHT
BEGIN:STANDARD
TZOFFSETFROM:-0500
TZOFFSETTO:-0600
TZNAME:CST
DTSTART:20261101T070000
END:STANDARD
END:VTIMEZONE
BEGIN:VEVENT
DTSTART;TZID=America/Chicago:20250312T183000
DTEND;TZID=America/Chicago:20250312T200000
DTSTAMP:20260419T193541
CREATED:20250225T014124Z
LAST-MODIFIED:20251126T145852Z
UID:10008150-1741804200-1741809600@www.sunnyvalefbc.com
SUMMARY:Worship Choir Rehearsal
DESCRIPTION:Every week\, students and adults combine their vocal talents to lead our church family in times of worship and celebration. This ministry incorporates choral selections and solos from a broad range of styles to encourage and inspire those who hear to trust the Lord fully. In addition\, seasonal concerts\, programs\, and nights of worship provide special occasions to rejoice and celebrate together! \nThe Choir leads worship in Sunday services every week from August through early June and rehearses on Wednesdays at 6:30 PM in the Choir Suite on the second floor of the Worship Center behind the stage. For information about choir\, email music@sunnyvalefbc.com.
URL:https://www.sunnyvalefbc.com/event/worship-choir-rehearsal/2025-03-12/
LOCATION:Choir Room
CATEGORIES:Music + Worship
ATTACH;FMTTYPE=image/jpeg:https://www.sunnyvalefbc.com/wp-content/uploads/2025/02/2025.02.25-01.40-sunnyvalefbc-67bd1f940ec8c.jpg
ORGANIZER;CN="Brian James":MAILTO:brianjames@sunnyvalefbc.com
END:VEVENT
BEGIN:VEVENT
DTSTART;TZID=America/Chicago:20250312T183000
DTEND;TZID=America/Chicago:20250312T193000
DTSTAMP:20260419T193541
CREATED:20240307T195116Z
LAST-MODIFIED:20260128T153627Z
UID:10006670-1741804200-1741807800@www.sunnyvalefbc.com
SUMMARY:Midweek Bible Study
DESCRIPTION:Join us each Wednesday evening as our Pastor and others lead in a study of God’s Word. \nCan’t make it in person? Watch live at sunnyvalefbc.online.church. \nWatch Live
URL:https://www.sunnyvalefbc.com/event/midweek-bible-study/2025-03-12/
LOCATION:Lighthouse
CATEGORIES:Bible Studies
ATTACH;FMTTYPE=image/jpeg:https://www.sunnyvalefbc.com/wp-content/uploads/2025/01/2025.01.14-06.02-sunnyvalefbc-6786a6bc41509.jpg
END:VEVENT
BEGIN:VEVENT
DTSTART;TZID=America/Chicago:20250311T100000
DTEND;TZID=America/Chicago:20250311T100000
DTSTAMP:20260419T193541
CREATED:20240215T181522Z
LAST-MODIFIED:20260126T165407Z
UID:10003976-1741687200-1741687200@www.sunnyvalefbc.com
SUMMARY:Senior Adult Bible Study
DESCRIPTION:Join our Senior Adult ministry for a time of worship\, Bible Study and fellowship.
URL:https://www.sunnyvalefbc.com/event/senior-adult-bible-study/2025-03-11/
LOCATION:TX
CATEGORIES:Bible Studies,Senior Adults
ATTACH;FMTTYPE=image/jpeg:https://www.sunnyvalefbc.com/wp-content/uploads/2024/02/2024.02.15-06.13-sunnyvalefbc-65ce543f6465a.jpg
END:VEVENT
BEGIN:VEVENT
DTSTART;TZID=America/Chicago:20250309T103000
DTEND;TZID=America/Chicago:20250309T120000
DTSTAMP:20260419T193541
CREATED:20230522T210923Z
LAST-MODIFIED:20251008T170244Z
UID:10000625-1741516200-1741521600@www.sunnyvalefbc.com
SUMMARY:Sunday Worship Service
DESCRIPTION:Join us each Sunday at 10:30 AM for dynamic worship and powerful preaching! \nCan’t make it to church? Join us online each week for worship wherever you are! \nWatch Live
URL:https://www.sunnyvalefbc.com/event/sunday-worship-service/2025-03-09/
LOCATION:Worship Center\, 3018 N. Belt Line Road\, Sunnyvale\, TX\, 75182\, United States
CATEGORIES:Adults + Care Groups
ATTACH;FMTTYPE=image/jpeg:https://www.sunnyvalefbc.com/wp-content/uploads/2023/05/2025.10.08-05.00-sunnyvalefbc-68e698c0d41a4-scaled-e1759942945232.jpg
END:VEVENT
BEGIN:VEVENT
DTSTART;TZID=America/Chicago:20250308T110000
DTEND;TZID=America/Chicago:20250308T130000
DTSTAMP:20260419T193541
CREATED:20250217T191123Z
LAST-MODIFIED:20250224T191057Z
UID:10008146-1741431600-1741438800@www.sunnyvalefbc.com
SUMMARY:Widows & Widowers Spring Luncheon
DESCRIPTION:Widows & Widowers\, join us on Saturday\, March 8 in the Lighthouse from 11:00 AM to 1:00 PM for a Spring Fling Luncheon hosted by the Deacon Ministry! \nDr. David L. Allen will be our special guest speaker! Come share stories\, enjoy good food\, and find fellowship with church family. \nRegister by Thursday\, March 6. \nRegister for Spring Luncheon
URL:https://www.sunnyvalefbc.com/event/spring-lunch/
LOCATION:Lighthouse
CATEGORIES:Churchwide
ATTACH;FMTTYPE=image/jpeg:https://www.sunnyvalefbc.com/wp-content/uploads/2025/02/2025.02.17-07.10-sunnyvalefbc-67b389a5c535a.jpg
END:VEVENT
BEGIN:VEVENT
DTSTART;TZID=America/Chicago:20250308T060000
DTEND;TZID=America/Chicago:20250308T070000
DTSTAMP:20260419T193541
CREATED:20240307T194929Z
LAST-MODIFIED:20260123T191759Z
UID:10006408-1741413600-1741417200@www.sunnyvalefbc.com
SUMMARY:Saturday Prayer
DESCRIPTION:Join us on Saturday mornings as we gather as a church family for a time of prayer starting at 6:00 AM in room C101.
URL:https://www.sunnyvalefbc.com/event/saturday-prayer/2025-03-08/
LOCATION:C101
ATTACH;FMTTYPE=image/jpeg:https://www.sunnyvalefbc.com/wp-content/uploads/2024/03/2024.08.02-04.34-sunnyvalefbc-66ad0a9f1bcc4.jpg
END:VEVENT
BEGIN:VEVENT
DTSTART;VALUE=DATE:20250221
DTEND;VALUE=DATE:20250224
DTSTAMP:20260419T193541
CREATED:20250208T015319Z
LAST-MODIFIED:20250208T015337Z
UID:10008145-1740096000-1740355199@www.sunnyvalefbc.com
SUMMARY:2025 DNOW Weekend
DESCRIPTION:Vale Students in grades 6th-12th\, save the dates for February 21-23! It’s going to be an unforgettable DNOW Weekend full of life-changing encounters\, worship\, discipleship\, games\, and more! \nRegister Your Student for DNOW
URL:https://www.sunnyvalefbc.com/event/2025-dnow/
LOCATION:Student Center
CATEGORIES:Students
ATTACH;FMTTYPE=image/png:https://www.sunnyvalefbc.com/wp-content/uploads/2025/02/2025.02.08-01.48-sunnyvalefbc-67a6b80861076.png
END:VEVENT
BEGIN:VEVENT
DTSTART;TZID=America/Chicago:20250104T180000
DTEND;TZID=America/Chicago:20250104T200000
DTSTAMP:20260419T193541
CREATED:20241216T184529Z
LAST-MODIFIED:20241216T184743Z
UID:10008103-1736013600-1736020800@www.sunnyvalefbc.com
SUMMARY:Men's Fire Pit with Dr. Deron Biles
DESCRIPTION:Men\, join us for our first Fire Pit event of 2025 on Saturday\, January 4 from 6:00-8:00 PM! \nSpeaker: Dr. Deron Biles \nTopic: A Life Dear to God: Benchmarks of a Disciple’s Life \nFood Menu: Pork stew\, white rice\, chips and salsa\, and a dessert. \nCost: $5 per person.You can pay online or in person\, but please make sure to register so that we have an accurate count for the food. \nInvite a friend and join us for Fire Pit in January! \nRegister for Men’s Fire Pit
URL:https://www.sunnyvalefbc.com/event/2024-01-04-mens-fire-pit/
LOCATION:Lighthouse
CATEGORIES:Men's Ministry
ATTACH;FMTTYPE=image/jpeg:https://www.sunnyvalefbc.com/wp-content/uploads/2023/07/2023.07.03-03.17-sunnyvalefbc-64a2e6749ed20-scaled-e1691444315331.jpg
END:VEVENT
BEGIN:VEVENT
DTSTART;TZID=America/Chicago:20241224T170000
DTEND;TZID=America/Chicago:20241224T180000
DTSTAMP:20260419T193541
CREATED:20241106T224614Z
LAST-MODIFIED:20241106T224614Z
UID:10007945-1735059600-1735063200@www.sunnyvalefbc.com
SUMMARY:Christmas Eve Candlelight Service
DESCRIPTION:Make a special family memory this year and join us for Christmas Eve. You’ll experience a time of worship and prayer with family at Sunnyvale First Baptist Church\, celebrating the birth of Jesus.
URL:https://www.sunnyvalefbc.com/event/2024-christmas-eve-candlelight-service/
LOCATION:Worship Center\, 3018 N. Belt Line Road\, Sunnyvale\, TX\, 75182\, United States
CATEGORIES:Christmas
ATTACH;FMTTYPE=image/jpeg:https://www.sunnyvalefbc.com/wp-content/uploads/2024/11/2024.11.06-10.41-sunnyvalefbc-672bf0a2dd391.jpg
END:VEVENT
BEGIN:VEVENT
DTSTART;TZID=America/Chicago:20241221T180000
DTEND;TZID=America/Chicago:20241221T200000
DTSTAMP:20260419T193541
CREATED:20240804T214215Z
LAST-MODIFIED:20241107T184409Z
UID:10007093-1734804000-1734811200@www.sunnyvalefbc.com
SUMMARY:David Phelps // It Must Be Christmas: The 25th Anniversary Tour
DESCRIPTION:Tickets for David Phelps It Must Be Christmas: The 25th Anniversary Tour are on sale now! Celebrate the season with us on Saturday\, December 21 at 6:00 PM! Secure your tickets by calling the Church Office or by clicking the button below. \nPurchase Tickets
URL:https://www.sunnyvalefbc.com/event/2024-david-phelps-christmas-tour/
LOCATION:Worship Center\, 3018 N. Belt Line Road\, Sunnyvale\, TX\, 75182\, United States
CATEGORIES:Christmas,Churchwide
ATTACH;FMTTYPE=image/jpeg:https://www.sunnyvalefbc.com/wp-content/uploads/2024/08/2024.10.21-08.41-sunnyvalefbc-6716bc71406b8.jpg
END:VEVENT
BEGIN:VEVENT
DTSTART;TZID=America/Chicago:20241212T103000
DTEND;TZID=America/Chicago:20241212T120000
DTSTAMP:20260419T193541
CREATED:20241204T150540Z
LAST-MODIFIED:20241204T181401Z
UID:10008018-1733999400-1734004800@www.sunnyvalefbc.com
SUMMARY:Senior Adult Luncheon
DESCRIPTION:Our TLC Senior Adult Luncheon is scheduled for the third Thursday of each month at 10:30 AM in the Lighthouse. Entrée will be provided\, but please bring vegetables\, salads\, or desserts. A reminder that TLC is scheduled for the third Thursday of each month.
URL:https://www.sunnyvalefbc.com/event/senior-adult-luncheon-2/
LOCATION:Lighthouse
CATEGORIES:Senior Adults
ATTACH;FMTTYPE=image/jpeg:https://www.sunnyvalefbc.com/wp-content/uploads/2023/06/2023.06.06-09.03-sunnyvalefbc-647f9f0dbcdae-scaled-e1686085440248.jpg
END:VEVENT
END:VCALENDAR