BEGIN:VCALENDAR
VERSION:2.0
PRODID:-//Sunnyvale FBC - ECPv6.15.20//NONSGML v1.0//EN
CALSCALE:GREGORIAN
METHOD:PUBLISH
X-ORIGINAL-URL:https://www.sunnyvalefbc.com
X-WR-CALDESC:Events for Sunnyvale FBC
REFRESH-INTERVAL;VALUE=DURATION:PT1H
X-Robots-Tag:noindex
X-PUBLISHED-TTL:PT1H
BEGIN:VTIMEZONE
TZID:America/Chicago
BEGIN:DAYLIGHT
TZOFFSETFROM:-0600
TZOFFSETTO:-0500
TZNAME:CDT
DTSTART:20230312T080000
END:DAYLIGHT
BEGIN:STANDARD
TZOFFSETFROM:-0500
TZOFFSETTO:-0600
TZNAME:CST
DTSTART:20231105T070000
END:STANDARD
BEGIN:DAYLIGHT
TZOFFSETFROM:-0600
TZOFFSETTO:-0500
TZNAME:CDT
DTSTART:20240310T080000
END:DAYLIGHT
BEGIN:STANDARD
TZOFFSETFROM:-0500
TZOFFSETTO:-0600
TZNAME:CST
DTSTART:20241103T070000
END:STANDARD
BEGIN:DAYLIGHT
TZOFFSETFROM:-0600
TZOFFSETTO:-0500
TZNAME:CDT
DTSTART:20250309T080000
END:DAYLIGHT
BEGIN:STANDARD
TZOFFSETFROM:-0500
TZOFFSETTO:-0600
TZNAME:CST
DTSTART:20251102T070000
END:STANDARD
END:VTIMEZONE
BEGIN:VEVENT
DTSTART;TZID=America/Chicago:20241222T103000
DTEND;TZID=America/Chicago:20241222T120000
DTSTAMP:20260419T120213
CREATED:20230522T210923Z
LAST-MODIFIED:20251008T170244Z
UID:10000614-1734863400-1734868800@www.sunnyvalefbc.com
SUMMARY:Sunday Worship Service
DESCRIPTION:Join us each Sunday at 10:30 AM for dynamic worship and powerful preaching! \nCan’t make it to church? Join us online each week for worship wherever you are! \nWatch Live
URL:https://www.sunnyvalefbc.com/event/sunday-worship-service/2024-12-22/
LOCATION:Worship Center\, 3018 N. Belt Line Road\, Sunnyvale\, TX\, 75182\, United States
CATEGORIES:Adults + Care Groups
ATTACH;FMTTYPE=image/jpeg:https://www.sunnyvalefbc.com/wp-content/uploads/2023/05/2025.10.08-05.00-sunnyvalefbc-68e698c0d41a4-scaled-e1759942945232.jpg
END:VEVENT
BEGIN:VEVENT
DTSTART;TZID=America/Chicago:20241224T170000
DTEND;TZID=America/Chicago:20241224T180000
DTSTAMP:20260419T120213
CREATED:20241106T224614Z
LAST-MODIFIED:20241106T224614Z
UID:10007945-1735059600-1735063200@www.sunnyvalefbc.com
SUMMARY:Christmas Eve Candlelight Service
DESCRIPTION:Make a special family memory this year and join us for Christmas Eve. You’ll experience a time of worship and prayer with family at Sunnyvale First Baptist Church\, celebrating the birth of Jesus.
URL:https://www.sunnyvalefbc.com/event/2024-christmas-eve-candlelight-service/
LOCATION:Worship Center\, 3018 N. Belt Line Road\, Sunnyvale\, TX\, 75182\, United States
CATEGORIES:Christmas
ATTACH;FMTTYPE=image/jpeg:https://www.sunnyvalefbc.com/wp-content/uploads/2024/11/2024.11.06-10.41-sunnyvalefbc-672bf0a2dd391.jpg
END:VEVENT
BEGIN:VEVENT
DTSTART;TZID=America/Chicago:20241228T060000
DTEND;TZID=America/Chicago:20241228T070000
DTSTAMP:20260419T120213
CREATED:20240307T194929Z
LAST-MODIFIED:20260123T191759Z
UID:10006398-1735365600-1735369200@www.sunnyvalefbc.com
SUMMARY:Saturday Prayer
DESCRIPTION:Join us on Saturday mornings as we gather as a church family for a time of prayer starting at 6:00 AM in room C101.
URL:https://www.sunnyvalefbc.com/event/saturday-prayer/2024-12-28/
LOCATION:C101
ATTACH;FMTTYPE=image/jpeg:https://www.sunnyvalefbc.com/wp-content/uploads/2024/03/2024.08.02-04.34-sunnyvalefbc-66ad0a9f1bcc4.jpg
END:VEVENT
END:VCALENDAR