BEGIN:VCALENDAR
VERSION:2.0
PRODID:-//Sunnyvale FBC - ECPv6.15.20//NONSGML v1.0//EN
CALSCALE:GREGORIAN
METHOD:PUBLISH
X-ORIGINAL-URL:https://www.sunnyvalefbc.com
X-WR-CALDESC:Events for Sunnyvale FBC
REFRESH-INTERVAL;VALUE=DURATION:PT1H
X-Robots-Tag:noindex
X-PUBLISHED-TTL:PT1H
BEGIN:VTIMEZONE
TZID:America/Chicago
BEGIN:DAYLIGHT
TZOFFSETFROM:-0600
TZOFFSETTO:-0500
TZNAME:CDT
DTSTART:20240310T080000
END:DAYLIGHT
BEGIN:STANDARD
TZOFFSETFROM:-0500
TZOFFSETTO:-0600
TZNAME:CST
DTSTART:20241103T070000
END:STANDARD
BEGIN:DAYLIGHT
TZOFFSETFROM:-0600
TZOFFSETTO:-0500
TZNAME:CDT
DTSTART:20250309T080000
END:DAYLIGHT
BEGIN:STANDARD
TZOFFSETFROM:-0500
TZOFFSETTO:-0600
TZNAME:CST
DTSTART:20251102T070000
END:STANDARD
BEGIN:DAYLIGHT
TZOFFSETFROM:-0600
TZOFFSETTO:-0500
TZNAME:CDT
DTSTART:20260308T080000
END:DAYLIGHT
BEGIN:STANDARD
TZOFFSETFROM:-0500
TZOFFSETTO:-0600
TZNAME:CST
DTSTART:20261101T070000
END:STANDARD
END:VTIMEZONE
BEGIN:VEVENT
DTSTART;TZID=America/Chicago:20250422T100000
DTEND;TZID=America/Chicago:20250422T100000
DTSTAMP:20260419T133431
CREATED:20240215T181522Z
LAST-MODIFIED:20260126T165407Z
UID:10003982-1745316000-1745316000@www.sunnyvalefbc.com
SUMMARY:Senior Adult Bible Study
DESCRIPTION:Join our Senior Adult ministry for a time of worship\, Bible Study and fellowship.
URL:https://www.sunnyvalefbc.com/event/senior-adult-bible-study/2025-04-22/
LOCATION:TX
CATEGORIES:Bible Studies,Senior Adults
ATTACH;FMTTYPE=image/jpeg:https://www.sunnyvalefbc.com/wp-content/uploads/2024/02/2024.02.15-06.13-sunnyvalefbc-65ce543f6465a.jpg
END:VEVENT
BEGIN:VEVENT
DTSTART;TZID=America/Chicago:20250423T170000
DTEND;TZID=America/Chicago:20250423T180000
DTSTAMP:20260419T133431
CREATED:20250328T153536Z
LAST-MODIFIED:20260128T153516Z
UID:10007693-1745427600-1745431200@www.sunnyvalefbc.com
SUMMARY:Midweek Family Meal
DESCRIPTION:The Midweek Family Meal provides a convenient and economical way to feed you and your family without making a mess in your kitchen. \nCost: $5.00/Person. You can make your reservation by signing up in Realm or by calling the Church Office (cash payment\, check or credit/debit card required upon arrival). We look forward to serving you! *All RSVPs must be made by 4:00 PM the Monday before. \nAll meals are served with water\, tea\, coffee\, and dessert. \nMenu is subject to change depending on supply chain/food availability in stores. \nIf you would like to be on the reoccurring Midweek Family Meal reservation list\, please RSVP by calling the Church Office at (972) 226-7105. \nRegister for Family Meal
URL:https://www.sunnyvalefbc.com/event/midweek-family-meal-2/2025-04-23/
LOCATION:Lighthouse
CATEGORIES:Churchwide
ATTACH;FMTTYPE=image/jpeg:https://www.sunnyvalefbc.com/wp-content/uploads/2024/08/2025.03.28-03.33-sunnyvalefbc-67e6c150b7ce9.jpg
END:VEVENT
BEGIN:VEVENT
DTSTART;TZID=America/Chicago:20250423T183000
DTEND;TZID=America/Chicago:20250423T193000
DTSTAMP:20260419T133431
CREATED:20240307T195116Z
LAST-MODIFIED:20260128T153627Z
UID:10006676-1745433000-1745436600@www.sunnyvalefbc.com
SUMMARY:Midweek Bible Study
DESCRIPTION:Join us each Wednesday evening as our Pastor and others lead in a study of God’s Word. \nCan’t make it in person? Watch live at sunnyvalefbc.online.church. \nWatch Live
URL:https://www.sunnyvalefbc.com/event/midweek-bible-study/2025-04-23/
LOCATION:Lighthouse
CATEGORIES:Bible Studies
ATTACH;FMTTYPE=image/jpeg:https://www.sunnyvalefbc.com/wp-content/uploads/2025/01/2025.01.14-06.02-sunnyvalefbc-6786a6bc41509.jpg
END:VEVENT
BEGIN:VEVENT
DTSTART;TZID=America/Chicago:20250423T183000
DTEND;TZID=America/Chicago:20250423T200000
DTSTAMP:20260419T133431
CREATED:20250225T014124Z
LAST-MODIFIED:20251126T145852Z
UID:10008156-1745433000-1745438400@www.sunnyvalefbc.com
SUMMARY:Worship Choir Rehearsal
DESCRIPTION:Every week\, students and adults combine their vocal talents to lead our church family in times of worship and celebration. This ministry incorporates choral selections and solos from a broad range of styles to encourage and inspire those who hear to trust the Lord fully. In addition\, seasonal concerts\, programs\, and nights of worship provide special occasions to rejoice and celebrate together! \nThe Choir leads worship in Sunday services every week from August through early June and rehearses on Wednesdays at 6:30 PM in the Choir Suite on the second floor of the Worship Center behind the stage. For information about choir\, email music@sunnyvalefbc.com.
URL:https://www.sunnyvalefbc.com/event/worship-choir-rehearsal/2025-04-23/
LOCATION:Choir Room
CATEGORIES:Music + Worship
ATTACH;FMTTYPE=image/jpeg:https://www.sunnyvalefbc.com/wp-content/uploads/2025/02/2025.02.25-01.40-sunnyvalefbc-67bd1f940ec8c.jpg
ORGANIZER;CN="Brian James":MAILTO:brianjames@sunnyvalefbc.com
END:VEVENT
BEGIN:VEVENT
DTSTART;TZID=America/Chicago:20250426T060000
DTEND;TZID=America/Chicago:20250426T070000
DTSTAMP:20260419T133431
CREATED:20240307T194929Z
LAST-MODIFIED:20260123T191759Z
UID:10006415-1745647200-1745650800@www.sunnyvalefbc.com
SUMMARY:Saturday Prayer
DESCRIPTION:Join us on Saturday mornings as we gather as a church family for a time of prayer starting at 6:00 AM in room C101.
URL:https://www.sunnyvalefbc.com/event/saturday-prayer/2025-04-26/
LOCATION:C101
ATTACH;FMTTYPE=image/jpeg:https://www.sunnyvalefbc.com/wp-content/uploads/2024/03/2024.08.02-04.34-sunnyvalefbc-66ad0a9f1bcc4.jpg
END:VEVENT
END:VCALENDAR