BEGIN:VCALENDAR
VERSION:2.0
PRODID:-//Sunnyvale FBC - ECPv6.15.20//NONSGML v1.0//EN
CALSCALE:GREGORIAN
METHOD:PUBLISH
X-ORIGINAL-URL:https://www.sunnyvalefbc.com
X-WR-CALDESC:Events for Sunnyvale FBC
REFRESH-INTERVAL;VALUE=DURATION:PT1H
X-Robots-Tag:noindex
X-PUBLISHED-TTL:PT1H
BEGIN:VTIMEZONE
TZID:America/Chicago
BEGIN:DAYLIGHT
TZOFFSETFROM:-0600
TZOFFSETTO:-0500
TZNAME:CDT
DTSTART:20240310T080000
END:DAYLIGHT
BEGIN:STANDARD
TZOFFSETFROM:-0500
TZOFFSETTO:-0600
TZNAME:CST
DTSTART:20241103T070000
END:STANDARD
BEGIN:DAYLIGHT
TZOFFSETFROM:-0600
TZOFFSETTO:-0500
TZNAME:CDT
DTSTART:20250309T080000
END:DAYLIGHT
BEGIN:STANDARD
TZOFFSETFROM:-0500
TZOFFSETTO:-0600
TZNAME:CST
DTSTART:20251102T070000
END:STANDARD
BEGIN:DAYLIGHT
TZOFFSETFROM:-0600
TZOFFSETTO:-0500
TZNAME:CDT
DTSTART:20260308T080000
END:DAYLIGHT
BEGIN:STANDARD
TZOFFSETFROM:-0500
TZOFFSETTO:-0600
TZNAME:CST
DTSTART:20261101T070000
END:STANDARD
END:VTIMEZONE
BEGIN:VEVENT
DTSTART;TZID=America/Chicago:20250615T103000
DTEND;TZID=America/Chicago:20250615T120000
DTSTAMP:20260419T092320
CREATED:20230522T210923Z
LAST-MODIFIED:20251008T170244Z
UID:10000639-1749983400-1749988800@www.sunnyvalefbc.com
SUMMARY:Sunday Worship Service
DESCRIPTION:Join us each Sunday at 10:30 AM for dynamic worship and powerful preaching! \nCan’t make it to church? Join us online each week for worship wherever you are! \nWatch Live
URL:https://www.sunnyvalefbc.com/event/sunday-worship-service/2025-06-15/
LOCATION:Worship Center\, 3018 N. Belt Line Road\, Sunnyvale\, TX\, 75182\, United States
CATEGORIES:Adults + Care Groups
ATTACH;FMTTYPE=image/jpeg:https://www.sunnyvalefbc.com/wp-content/uploads/2023/05/2025.10.08-05.00-sunnyvalefbc-68e698c0d41a4-scaled-e1759942945232.jpg
END:VEVENT
BEGIN:VEVENT
DTSTART;TZID=America/Chicago:20250617T100000
DTEND;TZID=America/Chicago:20250617T100000
DTSTAMP:20260419T092320
CREATED:20240215T181522Z
LAST-MODIFIED:20260126T165407Z
UID:10003990-1750154400-1750154400@www.sunnyvalefbc.com
SUMMARY:Senior Adult Bible Study
DESCRIPTION:Join our Senior Adult ministry for a time of worship\, Bible Study and fellowship.
URL:https://www.sunnyvalefbc.com/event/senior-adult-bible-study/2025-06-17/
LOCATION:TX
CATEGORIES:Bible Studies,Senior Adults
ATTACH;FMTTYPE=image/jpeg:https://www.sunnyvalefbc.com/wp-content/uploads/2024/02/2024.02.15-06.13-sunnyvalefbc-65ce543f6465a.jpg
END:VEVENT
BEGIN:VEVENT
DTSTART;TZID=America/Chicago:20250618T183000
DTEND;TZID=America/Chicago:20250618T193000
DTSTAMP:20260419T092320
CREATED:20240307T195116Z
LAST-MODIFIED:20260128T153627Z
UID:10006684-1750271400-1750275000@www.sunnyvalefbc.com
SUMMARY:Midweek Bible Study
DESCRIPTION:Join us each Wednesday evening as our Pastor and others lead in a study of God’s Word. \nCan’t make it in person? Watch live at sunnyvalefbc.online.church. \nWatch Live
URL:https://www.sunnyvalefbc.com/event/midweek-bible-study/2025-06-18/
LOCATION:Lighthouse
CATEGORIES:Bible Studies
ATTACH;FMTTYPE=image/jpeg:https://www.sunnyvalefbc.com/wp-content/uploads/2025/01/2025.01.14-06.02-sunnyvalefbc-6786a6bc41509.jpg
END:VEVENT
BEGIN:VEVENT
DTSTART;TZID=America/Chicago:20250621T060000
DTEND;TZID=America/Chicago:20250621T070000
DTSTAMP:20260419T092320
CREATED:20240307T194929Z
LAST-MODIFIED:20260123T191759Z
UID:10006423-1750485600-1750489200@www.sunnyvalefbc.com
SUMMARY:Saturday Prayer
DESCRIPTION:Join us on Saturday mornings as we gather as a church family for a time of prayer starting at 6:00 AM in room C101.
URL:https://www.sunnyvalefbc.com/event/saturday-prayer/2025-06-21/
LOCATION:C101
ATTACH;FMTTYPE=image/jpeg:https://www.sunnyvalefbc.com/wp-content/uploads/2024/03/2024.08.02-04.34-sunnyvalefbc-66ad0a9f1bcc4.jpg
END:VEVENT
BEGIN:VEVENT
DTSTART;TZID=America/Chicago:20250621T170000
DTEND;TZID=America/Chicago:20250621T190000
DTSTAMP:20260419T092320
CREATED:20250505T184219Z
LAST-MODIFIED:20250605T143857Z
UID:10008256-1750525200-1750532400@www.sunnyvalefbc.com
SUMMARY:Chosen // Women's Ministry Dinner
DESCRIPTION:Ladies\, you are invited to our Chosen // Women’s Ministry Dinner on Saturday\, June 21 from 5:00-7:00 PM centered on the theme Chosen in Love\, Adopted by Grace. God has written a beautiful story over your life\, one filled with love\, grace\, and belonging. \nOur speakers\, Kimberly Dortch and Becky Harber\, will share their powerful testimonies and personal stories of adoption. \nFor only $5.00 per person\, come enjoy dinner\, meaningful conversation\, and an evening filled with connection and encouragement. Register now in Realm and invite a friend to join you! \nRegister for Women’s Ministry Dinner
URL:https://www.sunnyvalefbc.com/event/chosen/
LOCATION:Lighthouse
CATEGORIES:Women's Ministry
ATTACH;FMTTYPE=image/jpeg:https://www.sunnyvalefbc.com/wp-content/uploads/2025/05/2025.05.05-06.40-sunnyvalefbc-6819060d1e3a1-scaled-e1746470451404.jpg
END:VEVENT
END:VCALENDAR