BEGIN:VCALENDAR
VERSION:2.0
PRODID:-//Sunnyvale FBC - ECPv6.15.20//NONSGML v1.0//EN
CALSCALE:GREGORIAN
METHOD:PUBLISH
X-WR-CALNAME:Sunnyvale FBC
X-ORIGINAL-URL:https://www.sunnyvalefbc.com
X-WR-CALDESC:Events for Sunnyvale FBC
REFRESH-INTERVAL;VALUE=DURATION:PT1H
X-Robots-Tag:noindex
X-PUBLISHED-TTL:PT1H
BEGIN:VTIMEZONE
TZID:America/Chicago
BEGIN:DAYLIGHT
TZOFFSETFROM:-0600
TZOFFSETTO:-0500
TZNAME:CDT
DTSTART:20240310T080000
END:DAYLIGHT
BEGIN:STANDARD
TZOFFSETFROM:-0500
TZOFFSETTO:-0600
TZNAME:CST
DTSTART:20241103T070000
END:STANDARD
BEGIN:DAYLIGHT
TZOFFSETFROM:-0600
TZOFFSETTO:-0500
TZNAME:CDT
DTSTART:20250309T080000
END:DAYLIGHT
BEGIN:STANDARD
TZOFFSETFROM:-0500
TZOFFSETTO:-0600
TZNAME:CST
DTSTART:20251102T070000
END:STANDARD
BEGIN:DAYLIGHT
TZOFFSETFROM:-0600
TZOFFSETTO:-0500
TZNAME:CDT
DTSTART:20260308T080000
END:DAYLIGHT
BEGIN:STANDARD
TZOFFSETFROM:-0500
TZOFFSETTO:-0600
TZNAME:CST
DTSTART:20261101T070000
END:STANDARD
END:VTIMEZONE
BEGIN:VEVENT
DTSTART;TZID=America/Chicago:20250622T103000
DTEND;TZID=America/Chicago:20250622T120000
DTSTAMP:20260418T182610
CREATED:20230522T210923Z
LAST-MODIFIED:20251008T170244Z
UID:10000640-1750588200-1750593600@www.sunnyvalefbc.com
SUMMARY:Sunday Worship Service
DESCRIPTION:Join us each Sunday at 10:30 AM for dynamic worship and powerful preaching! \nCan’t make it to church? Join us online each week for worship wherever you are! \nWatch Live
URL:https://www.sunnyvalefbc.com/event/sunday-worship-service/2025-06-22/
LOCATION:Worship Center\, 3018 N. Belt Line Road\, Sunnyvale\, TX\, 75182\, United States
CATEGORIES:Adults + Care Groups
ATTACH;FMTTYPE=image/jpeg:https://www.sunnyvalefbc.com/wp-content/uploads/2023/05/2025.10.08-05.00-sunnyvalefbc-68e698c0d41a4-scaled-e1759942945232.jpg
END:VEVENT
BEGIN:VEVENT
DTSTART;TZID=America/Chicago:20250622T183000
DTEND;TZID=America/Chicago:20250625T203000
DTSTAMP:20260418T182610
CREATED:20240411T160628Z
LAST-MODIFIED:20250522T142254Z
UID:10008257-1750617000-1750883400@www.sunnyvalefbc.com
SUMMARY:Magnified // Vacation Bible School 2025
DESCRIPTION:Join us for Vacation Bible School\nat Sunnyvale First Baptist Church!\nMagnified! VBS will encourage kids to look closely at the details of God’s amazing world and magnify\, or proclaim\, the greatness of God. God made us\, cares about us\, loves us\, forgives us\, and is faithful to keep all His promises to us. We can praise God together! We were made to magnify God! \nVBS is open to children who have completed kindergarten through 5th grade\, and Friends (Special Needs) children\, teenagers\, and adults. \nPreschool-aged children are able to attend only if their parents are serving as church volunteers. \nRegister for VBS!
URL:https://www.sunnyvalefbc.com/event/vbs-2025/2025-06-22/
LOCATION:Sunnyvale First Baptist Church\, 3018 N. Belt Line Rd\, Sunnyvale\, TX\, 75182\, United States
CATEGORIES:Churchwide,Kids,Summer
ATTACH;FMTTYPE=image/jpeg:https://www.sunnyvalefbc.com/wp-content/uploads/2024/04/2025.05.15-04.29-sunnyvalefbc-6826166bba964-scaled-e1747326603204.jpg
END:VEVENT
BEGIN:VEVENT
DTSTART;TZID=America/Chicago:20250623T183000
DTEND;TZID=America/Chicago:20250626T203000
DTSTAMP:20260418T182610
CREATED:20240411T160628Z
LAST-MODIFIED:20250522T142254Z
UID:10008258-1750703400-1750969800@www.sunnyvalefbc.com
SUMMARY:Magnified // Vacation Bible School 2025
DESCRIPTION:Join us for Vacation Bible School\nat Sunnyvale First Baptist Church!\nMagnified! VBS will encourage kids to look closely at the details of God’s amazing world and magnify\, or proclaim\, the greatness of God. God made us\, cares about us\, loves us\, forgives us\, and is faithful to keep all His promises to us. We can praise God together! We were made to magnify God! \nVBS is open to children who have completed kindergarten through 5th grade\, and Friends (Special Needs) children\, teenagers\, and adults. \nPreschool-aged children are able to attend only if their parents are serving as church volunteers. \nRegister for VBS!
URL:https://www.sunnyvalefbc.com/event/vbs-2025/2025-06-23/
LOCATION:Sunnyvale First Baptist Church\, 3018 N. Belt Line Rd\, Sunnyvale\, TX\, 75182\, United States
CATEGORIES:Churchwide,Kids,Summer
ATTACH;FMTTYPE=image/jpeg:https://www.sunnyvalefbc.com/wp-content/uploads/2024/04/2025.05.15-04.29-sunnyvalefbc-6826166bba964-scaled-e1747326603204.jpg
END:VEVENT
BEGIN:VEVENT
DTSTART;TZID=America/Chicago:20250624T100000
DTEND;TZID=America/Chicago:20250624T100000
DTSTAMP:20260418T182610
CREATED:20240215T181522Z
LAST-MODIFIED:20260126T165407Z
UID:10003991-1750759200-1750759200@www.sunnyvalefbc.com
SUMMARY:Senior Adult Bible Study
DESCRIPTION:Join our Senior Adult ministry for a time of worship\, Bible Study and fellowship.
URL:https://www.sunnyvalefbc.com/event/senior-adult-bible-study/2025-06-24/
LOCATION:TX
CATEGORIES:Bible Studies,Senior Adults
ATTACH;FMTTYPE=image/jpeg:https://www.sunnyvalefbc.com/wp-content/uploads/2024/02/2024.02.15-06.13-sunnyvalefbc-65ce543f6465a.jpg
END:VEVENT
BEGIN:VEVENT
DTSTART;TZID=America/Chicago:20250624T183000
DTEND;TZID=America/Chicago:20250627T203000
DTSTAMP:20260418T182610
CREATED:20240411T160628Z
LAST-MODIFIED:20250522T142254Z
UID:10008259-1750789800-1751056200@www.sunnyvalefbc.com
SUMMARY:Magnified // Vacation Bible School 2025
DESCRIPTION:Join us for Vacation Bible School\nat Sunnyvale First Baptist Church!\nMagnified! VBS will encourage kids to look closely at the details of God’s amazing world and magnify\, or proclaim\, the greatness of God. God made us\, cares about us\, loves us\, forgives us\, and is faithful to keep all His promises to us. We can praise God together! We were made to magnify God! \nVBS is open to children who have completed kindergarten through 5th grade\, and Friends (Special Needs) children\, teenagers\, and adults. \nPreschool-aged children are able to attend only if their parents are serving as church volunteers. \nRegister for VBS!
URL:https://www.sunnyvalefbc.com/event/vbs-2025/2025-06-24/
LOCATION:Sunnyvale First Baptist Church\, 3018 N. Belt Line Rd\, Sunnyvale\, TX\, 75182\, United States
CATEGORIES:Churchwide,Kids,Summer
ATTACH;FMTTYPE=image/jpeg:https://www.sunnyvalefbc.com/wp-content/uploads/2024/04/2025.05.15-04.29-sunnyvalefbc-6826166bba964-scaled-e1747326603204.jpg
END:VEVENT
BEGIN:VEVENT
DTSTART;TZID=America/Chicago:20250625T183000
DTEND;TZID=America/Chicago:20250625T193000
DTSTAMP:20260418T182610
CREATED:20240307T195116Z
LAST-MODIFIED:20260128T153627Z
UID:10006685-1750876200-1750879800@www.sunnyvalefbc.com
SUMMARY:Midweek Bible Study
DESCRIPTION:Join us each Wednesday evening as our Pastor and others lead in a study of God’s Word. \nCan’t make it in person? Watch live at sunnyvalefbc.online.church. \nWatch Live
URL:https://www.sunnyvalefbc.com/event/midweek-bible-study/2025-06-25/
LOCATION:Lighthouse
CATEGORIES:Bible Studies
ATTACH;FMTTYPE=image/jpeg:https://www.sunnyvalefbc.com/wp-content/uploads/2025/01/2025.01.14-06.02-sunnyvalefbc-6786a6bc41509.jpg
END:VEVENT
BEGIN:VEVENT
DTSTART;TZID=America/Chicago:20250628T060000
DTEND;TZID=America/Chicago:20250628T070000
DTSTAMP:20260418T182610
CREATED:20240307T194929Z
LAST-MODIFIED:20260123T191759Z
UID:10006424-1751090400-1751094000@www.sunnyvalefbc.com
SUMMARY:Saturday Prayer
DESCRIPTION:Join us on Saturday mornings as we gather as a church family for a time of prayer starting at 6:00 AM in room C101.
URL:https://www.sunnyvalefbc.com/event/saturday-prayer/2025-06-28/
LOCATION:C101
ATTACH;FMTTYPE=image/jpeg:https://www.sunnyvalefbc.com/wp-content/uploads/2024/03/2024.08.02-04.34-sunnyvalefbc-66ad0a9f1bcc4.jpg
END:VEVENT
END:VCALENDAR