BEGIN:VCALENDAR
VERSION:2.0
PRODID:-//Sunnyvale FBC - ECPv6.15.20//NONSGML v1.0//EN
CALSCALE:GREGORIAN
METHOD:PUBLISH
X-WR-CALNAME:Sunnyvale FBC
X-ORIGINAL-URL:https://www.sunnyvalefbc.com
X-WR-CALDESC:Events for Sunnyvale FBC
REFRESH-INTERVAL;VALUE=DURATION:PT1H
X-Robots-Tag:noindex
X-PUBLISHED-TTL:PT1H
BEGIN:VTIMEZONE
TZID:America/Chicago
BEGIN:DAYLIGHT
TZOFFSETFROM:-0600
TZOFFSETTO:-0500
TZNAME:CDT
DTSTART:20240310T080000
END:DAYLIGHT
BEGIN:STANDARD
TZOFFSETFROM:-0500
TZOFFSETTO:-0600
TZNAME:CST
DTSTART:20241103T070000
END:STANDARD
BEGIN:DAYLIGHT
TZOFFSETFROM:-0600
TZOFFSETTO:-0500
TZNAME:CDT
DTSTART:20250309T080000
END:DAYLIGHT
BEGIN:STANDARD
TZOFFSETFROM:-0500
TZOFFSETTO:-0600
TZNAME:CST
DTSTART:20251102T070000
END:STANDARD
BEGIN:DAYLIGHT
TZOFFSETFROM:-0600
TZOFFSETTO:-0500
TZNAME:CDT
DTSTART:20260308T080000
END:DAYLIGHT
BEGIN:STANDARD
TZOFFSETFROM:-0500
TZOFFSETTO:-0600
TZNAME:CST
DTSTART:20261101T070000
END:STANDARD
END:VTIMEZONE
BEGIN:VEVENT
DTSTART;TZID=America/Chicago:20250810T090000
DTEND;TZID=America/Chicago:20250810T100000
DTSTAMP:20260418T182703
CREATED:20250722T190238Z
LAST-MODIFIED:20250724T210950Z
UID:10008415-1754816400-1754820000@www.sunnyvalefbc.com
SUMMARY:Promotion Sunday
DESCRIPTION:Mark your calendars for Promotion Sunday at Sunnyvale First Baptist Church on August 10 at 9:00 AM in the Children’s Building! \nJoin us as we POP-UP to the next grade! Bring the whole family for a special photo op\, big smiles\, and even bigger fun as we celebrate a new school year together. \n 
URL:https://www.sunnyvalefbc.com/event/2025-promotion-sunday/
LOCATION:Sunnyvale First Baptist Church\, 3018 N. Belt Line Rd\, Sunnyvale\, TX\, 75182\, United States
CATEGORIES:Kids,Preschool
ATTACH;FMTTYPE=image/jpeg:https://www.sunnyvalefbc.com/wp-content/uploads/2025/07/2025.07.24-09.09-sunnyvalefbc-6882a0f5624bb-scaled-e1753391382289.jpg
END:VEVENT
BEGIN:VEVENT
DTSTART;TZID=America/Chicago:20250810T103000
DTEND;TZID=America/Chicago:20250810T120000
DTSTAMP:20260418T182703
CREATED:20230522T210923Z
LAST-MODIFIED:20251008T170244Z
UID:10000647-1754821800-1754827200@www.sunnyvalefbc.com
SUMMARY:Sunday Worship Service
DESCRIPTION:Join us each Sunday at 10:30 AM for dynamic worship and powerful preaching! \nCan’t make it to church? Join us online each week for worship wherever you are! \nWatch Live
URL:https://www.sunnyvalefbc.com/event/sunday-worship-service/2025-08-10/
LOCATION:Worship Center\, 3018 N. Belt Line Road\, Sunnyvale\, TX\, 75182\, United States
CATEGORIES:Adults + Care Groups
ATTACH;FMTTYPE=image/jpeg:https://www.sunnyvalefbc.com/wp-content/uploads/2023/05/2025.10.08-05.00-sunnyvalefbc-68e698c0d41a4-scaled-e1759942945232.jpg
END:VEVENT
BEGIN:VEVENT
DTSTART;TZID=America/Chicago:20250812T100000
DTEND;TZID=America/Chicago:20250812T100000
DTSTAMP:20260418T182703
CREATED:20240215T181522Z
LAST-MODIFIED:20260126T165407Z
UID:10003998-1754992800-1754992800@www.sunnyvalefbc.com
SUMMARY:Senior Adult Bible Study
DESCRIPTION:Join our Senior Adult ministry for a time of worship\, Bible Study and fellowship.
URL:https://www.sunnyvalefbc.com/event/senior-adult-bible-study/2025-08-12/
LOCATION:TX
CATEGORIES:Bible Studies,Senior Adults
ATTACH;FMTTYPE=image/jpeg:https://www.sunnyvalefbc.com/wp-content/uploads/2024/02/2024.02.15-06.13-sunnyvalefbc-65ce543f6465a.jpg
END:VEVENT
BEGIN:VEVENT
DTSTART;TZID=America/Chicago:20250813T170000
DTEND;TZID=America/Chicago:20250813T180000
DTSTAMP:20260418T182703
CREATED:20250328T153536Z
LAST-MODIFIED:20260128T153516Z
UID:10007709-1755104400-1755108000@www.sunnyvalefbc.com
SUMMARY:Midweek Family Meal
DESCRIPTION:The Midweek Family Meal provides a convenient and economical way to feed you and your family without making a mess in your kitchen. \nCost: $5.00/Person. You can make your reservation by signing up in Realm or by calling the Church Office (cash payment\, check or credit/debit card required upon arrival). We look forward to serving you! *All RSVPs must be made by 4:00 PM the Monday before. \nAll meals are served with water\, tea\, coffee\, and dessert. \nMenu is subject to change depending on supply chain/food availability in stores. \nIf you would like to be on the reoccurring Midweek Family Meal reservation list\, please RSVP by calling the Church Office at (972) 226-7105. \nRegister for Family Meal
URL:https://www.sunnyvalefbc.com/event/midweek-family-meal-2/2025-08-13/
LOCATION:Lighthouse
CATEGORIES:Churchwide
ATTACH;FMTTYPE=image/jpeg:https://www.sunnyvalefbc.com/wp-content/uploads/2024/08/2025.03.28-03.33-sunnyvalefbc-67e6c150b7ce9.jpg
END:VEVENT
BEGIN:VEVENT
DTSTART;TZID=America/Chicago:20250813T183000
DTEND;TZID=America/Chicago:20250813T193000
DTSTAMP:20260418T182703
CREATED:20240307T195116Z
LAST-MODIFIED:20260128T153627Z
UID:10006692-1755109800-1755113400@www.sunnyvalefbc.com
SUMMARY:Midweek Bible Study
DESCRIPTION:Join us each Wednesday evening as our Pastor and others lead in a study of God’s Word. \nCan’t make it in person? Watch live at sunnyvalefbc.online.church. \nWatch Live
URL:https://www.sunnyvalefbc.com/event/midweek-bible-study/2025-08-13/
LOCATION:Lighthouse
CATEGORIES:Bible Studies
ATTACH;FMTTYPE=image/jpeg:https://www.sunnyvalefbc.com/wp-content/uploads/2025/01/2025.01.14-06.02-sunnyvalefbc-6786a6bc41509.jpg
END:VEVENT
BEGIN:VEVENT
DTSTART;TZID=America/Chicago:20250813T183000
DTEND;TZID=America/Chicago:20250813T193000
DTSTAMP:20260418T182703
CREATED:20250722T185154Z
LAST-MODIFIED:20250723T182602Z
UID:10008413-1755109800-1755113400@www.sunnyvalefbc.com
SUMMARY:MDWK Kickoff
DESCRIPTION:SAVE THE DATE! Our campus-wide Midweek Kickoff will be Wednesday\, August 13! \nWe will be kicking off a new season of activities including: \n·       Family Meal (from 5:00-6:00 PM) \n·       Adult Choir Rehearsal \n·       Bible Study with Dr. Deron Biles \n·       FRIENDS (special needs) \n·       Preschool\, Children\, and Youth Activities \nDon’t miss an exciting evening of fun\, fellowship\, and reconnection with church family on August 13!
URL:https://www.sunnyvalefbc.com/event/2025-midweek-kickoff/
LOCATION:Sunnyvale First Baptist Church\, 3018 N. Belt Line Rd\, Sunnyvale\, TX\, 75182\, United States
CATEGORIES:Churchwide
ATTACH;FMTTYPE=image/jpeg:https://www.sunnyvalefbc.com/wp-content/uploads/2025/07/2025.07.22-06.50-sunnyvalefbc-687fdd8e487dc-scaled-e1753210290134.jpg
END:VEVENT
BEGIN:VEVENT
DTSTART;TZID=America/Chicago:20250816T060000
DTEND;TZID=America/Chicago:20250816T070000
DTSTAMP:20260418T182703
CREATED:20240307T194929Z
LAST-MODIFIED:20260123T191759Z
UID:10006431-1755324000-1755327600@www.sunnyvalefbc.com
SUMMARY:Saturday Prayer
DESCRIPTION:Join us on Saturday mornings as we gather as a church family for a time of prayer starting at 6:00 AM in room C101.
URL:https://www.sunnyvalefbc.com/event/saturday-prayer/2025-08-16/
LOCATION:C101
ATTACH;FMTTYPE=image/jpeg:https://www.sunnyvalefbc.com/wp-content/uploads/2024/03/2024.08.02-04.34-sunnyvalefbc-66ad0a9f1bcc4.jpg
END:VEVENT
END:VCALENDAR